BEGIN:VCALENDAR
VERSION:2.0
PRODID:-//CERN//INDICO//EN
BEGIN:VEVENT
SUMMARY:Медицинска физика
DTSTART:20260325T080000Z
DTEND:20260325T100000Z
DTSTAMP:20260420T195100Z
UID:indico-event-5@indico.atomic.phys.uni-sofia.bg
DESCRIPTION:Speakers: Красимир Митев\n\nhttps://indico.atomic
 .phys.uni-sofia.bg/event/5/
LOCATION:В29а (ФзФ)
URL:https://indico.atomic.phys.uni-sofia.bg/event/5/
END:VEVENT
END:VCALENDAR
