BEGIN:VCALENDAR
VERSION:2.0
PRODID:-//CERN//INDICO//EN
BEGIN:VEVENT
SUMMARY:Физика на ядрото и елементарните ча
 стици
DTSTART:20260310T090000Z
DTEND:20260310T110000Z
DTSTAMP:20260420T195100Z
UID:indico-event-2@indico.atomic.phys.uni-sofia.bg
DESCRIPTION:Speakers: Борислав Павлов\n\nhttps://indico.atom
 ic.phys.uni-sofia.bg/event/2/
LOCATION:В29а (ФзФ)
URL:https://indico.atomic.phys.uni-sofia.bg/event/2/
END:VEVENT
END:VCALENDAR
